BEGIN:VCALENDAR
VERSION:2.0
PRODID:-//Rougham Estate - ECPv6.7.0//NONSGML v1.0//EN
CALSCALE:GREGORIAN
METHOD:PUBLISH
X-ORIGINAL-URL:https://roughamestate.com
X-WR-CALDESC:Events for Rougham Estate
REFRESH-INTERVAL;VALUE=DURATION:PT1H
X-Robots-Tag:noindex
X-PUBLISHED-TTL:PT1H
BEGIN:VTIMEZONE
TZID:UTC
BEGIN:STANDARD
TZOFFSETFROM:+0000
TZOFFSETTO:+0000
TZNAME:UTC
DTSTART:20260101T000000
END:STANDARD
END:VTIMEZONE
BEGIN:VEVENT
DTSTART;TZID=UTC:20260216T100000
DTEND;TZID=UTC:20260216T123000
DTSTAMP:20260424T104356
CREATED:20260128T224322Z
LAST-MODIFIED:20260210T102238Z
UID:10000109-1771236000-1771245000@roughamestate.com
SUMMARY:Ramble and Roots
DESCRIPTION:
URL:https://roughamestate.com/events/ramble-and-roots-feb26/
ATTACH;FMTTYPE=image/webp:https://roughamestate.com/wp-content/uploads/2026/01/RR-Email-Banner-Jan26.webp
END:VEVENT
BEGIN:VEVENT
DTSTART;TZID=UTC:20260220T094500
DTEND;TZID=UTC:20260221T150000
DTSTAMP:20260424T104356
CREATED:20260110T090355Z
LAST-MODIFIED:20260226T181014Z
UID:10000104-1771580700-1771686000@roughamestate.com
SUMMARY:The Reset Retreat
DESCRIPTION:
URL:https://roughamestate.com/events/the-reset-retreat/
ATTACH;FMTTYPE=image/jpeg:https://roughamestate.com/wp-content/uploads/2026/01/image00009-scaled-e1767961283582.jpeg
END:VEVENT
END:VCALENDAR